Package: SVP Version: 1.0.2 Command: /Library/Frameworks/R.framework/Resources/bin/R CMD INSTALL SVP StartedAt: 2025-10-13 16:14:09 -0400 (Mon, 13 Oct 2025) EndedAt: 2025-10-13 16:16:34 -0400 (Mon, 13 Oct 2025) EllapsedTime: 144.9 seconds RetCode: 0 Status: OK