Package: SVP Version: 1.0.2 Command: /Library/Frameworks/R.framework/Resources/bin/R CMD build --keep-empty-dirs --no-resave-data SVP StartedAt: 2025-10-14 10:43:16 -0400 (Tue, 14 Oct 2025) EndedAt: 2025-10-14 10:49:07 -0400 (Tue, 14 Oct 2025) EllapsedTime: 351.3 seconds RetCode: 0 Status: OK PackageFile: SVP_1.0.2.tar.gz PackageFileSize: 4.858 MiB