Package: SVMDO Version: 1.8.0 Command: /home/biocbuild/bbs-3.21-bioc/R/bin/R CMD INSTALL SVMDO StartedAt: 2025-10-08 15:47:40 -0400 (Wed, 08 Oct 2025) EndedAt: 2025-10-08 15:48:16 -0400 (Wed, 08 Oct 2025) EllapsedTime: 36.0 seconds RetCode: 0 Status: OK