Package: SVMDO Version: 1.8.0 Command: /home/biocbuild/bbs-3.21-bioc/R/bin/R CMD check --install=check:SVMDO.install-out.txt --library=/home/biocbuild/bbs-3.21-bioc/R/site-library --timings SVMDO_1.8.0.tar.gz StartedAt: 2025-10-09 04:05:04 -0400 (Thu, 09 Oct 2025) EndedAt: 2025-10-09 04:10:07 -0400 (Thu, 09 Oct 2025) EllapsedTime: 303.5 seconds RetCode: 0 Status: OK CheckDir: SVMDO.Rcheck Warnings: 0