Package: SVMDO Version: 1.8.0 Command: /home/biocbuild/bbs-3.21-bioc/R/bin/R CMD build --keep-empty-dirs --no-resave-data SVMDO StartedAt: 2025-10-08 20:11:16 -0400 (Wed, 08 Oct 2025) EndedAt: 2025-10-08 20:11:53 -0400 (Wed, 08 Oct 2025) EllapsedTime: 37.0 seconds RetCode: 0 Status: OK PackageFile: SVMDO_1.8.0.tar.gz PackageFileSize: 2.379 MiB