Package: SVMDO Version: 1.8.0 Command: /Library/Frameworks/R.framework/Resources/bin/R CMD INSTALL SVMDO StartedAt: 2025-04-21 15:22:57 -0400 (Mon, 21 Apr 2025) EndedAt: 2025-04-21 15:23:13 -0400 (Mon, 21 Apr 2025) EllapsedTime: 15.2 seconds RetCode: 0 Status: OK