Package: SVMDO Version: 1.8.0 Command: /Library/Frameworks/R.framework/Resources/bin/R CMD build --keep-empty-dirs --no-resave-data SVMDO StartedAt: 2025-10-07 11:09:32 -0400 (Tue, 07 Oct 2025) EndedAt: 2025-10-07 11:10:23 -0400 (Tue, 07 Oct 2025) EllapsedTime: 50.9 seconds RetCode: 0 Status: OK PackageFile: SVMDO_1.8.0.tar.gz PackageFileSize: 2.379 MiB