Package: SUITOR Version: 1.10.0 Command: /Library/Frameworks/R.framework/Resources/bin/R CMD build --keep-empty-dirs --no-resave-data SUITOR StartedAt: 2025-10-14 10:39:08 -0400 (Tue, 14 Oct 2025) EndedAt: 2025-10-14 10:39:10 -0400 (Tue, 14 Oct 2025) EllapsedTime: 2.3 seconds RetCode: 1 Status: ERROR PackageFile: None PackageFileSize: NA