Package: STRINGdb Version: 2.20.0 Command: /Library/Frameworks/R.framework/Resources/bin/R CMD INSTALL STRINGdb StartedAt: 2025-10-13 15:19:51 -0400 (Mon, 13 Oct 2025) EndedAt: 2025-10-13 15:20:22 -0400 (Mon, 13 Oct 2025) EllapsedTime: 31.2 seconds RetCode: 0 Status: OK