Package: STATegRa Version: 1.44.0 Command: E:\biocbuild\bbs-3.21-bioc\R\bin\R.exe CMD check --no-multiarch --install=check:STATegRa.install-out.txt --library=E:\biocbuild\bbs-3.21-bioc\R\library --no-vignettes --timings STATegRa_1.44.0.tar.gz StartedAt: 2025-08-15 07:30:41 -0400 (Fri, 15 Aug 2025) EndedAt: 2025-08-15 07:34:49 -0400 (Fri, 15 Aug 2025) EllapsedTime: 247.9 seconds RetCode: 0 Status: OK CheckDir: STATegRa.Rcheck Warnings: 0