Package: STATegRa Version: 1.44.0 Command: /Library/Frameworks/R.framework/Resources/bin/R CMD INSTALL STATegRa StartedAt: 2025-10-13 15:23:01 -0400 (Mon, 13 Oct 2025) EndedAt: 2025-10-13 15:23:32 -0400 (Mon, 13 Oct 2025) EllapsedTime: 30.8 seconds RetCode: 0 Status: OK