Package: SRAdb Version: 1.70.0 Command: /home/biocbuild/R/R/bin/R CMD INSTALL SRAdb StartedAt: 2025-10-13 20:23:29 -0000 (Mon, 13 Oct 2025) EndedAt: 2025-10-13 20:23:36 -0000 (Mon, 13 Oct 2025) EllapsedTime: 7.2 seconds RetCode: 0 Status: OK