Package: SPLINTER Version: 1.34.0 Command: E:\biocbuild\bbs-3.21-bioc\R\bin\R.exe CMD check --no-multiarch --install=check:SPLINTER.install-out.txt --library=E:\biocbuild\bbs-3.21-bioc\R\library --no-vignettes --timings SPLINTER_1.34.0.tar.gz StartedAt: 2025-08-15 07:23:29 -0400 (Fri, 15 Aug 2025) EndedAt: 2025-08-15 07:30:53 -0400 (Fri, 15 Aug 2025) EllapsedTime: 443.8 seconds RetCode: 0 Status: WARNINGS CheckDir: SPLINTER.Rcheck Warnings: 1