Package: SPLINTER Version: 1.34.0 Command: /Library/Frameworks/R.framework/Resources/bin/R CMD INSTALL SPLINTER StartedAt: 2025-10-13 16:30:04 -0400 (Mon, 13 Oct 2025) EndedAt: 2025-10-13 16:31:48 -0400 (Mon, 13 Oct 2025) EllapsedTime: 103.3 seconds RetCode: 0 Status: OK