Package: SPLINTER Version: 1.34.0 Command: /Library/Frameworks/R.framework/Resources/bin/R CMD INSTALL SPLINTER StartedAt: 2025-10-09 18:02:09 -0400 (Thu, 09 Oct 2025) EndedAt: 2025-10-09 18:03:11 -0400 (Thu, 09 Oct 2025) EllapsedTime: 61.7 seconds RetCode: 0 Status: OK