Package: SPIA Version: 2.60.0 Command: /Library/Frameworks/R.framework/Resources/bin/R CMD check --install=check:SPIA.install-out.txt --library=/Library/Frameworks/R.framework/Resources/library --no-vignettes --timings SPIA_2.60.0.tar.gz StartedAt: 2025-04-21 23:47:39 -0400 (Mon, 21 Apr 2025) EndedAt: 2025-04-21 23:53:36 -0400 (Mon, 21 Apr 2025) EllapsedTime: 357.4 seconds RetCode: 0 Status: OK CheckDir: SPIA.Rcheck Warnings: 0