Package: SPIA Version: 2.60.0 Command: /home/biocbuild/R/R/bin/R CMD INSTALL SPIA StartedAt: 2025-09-25 20:27:44 -0000 (Thu, 25 Sep 2025) EndedAt: 2025-09-25 20:27:52 -0000 (Thu, 25 Sep 2025) EllapsedTime: 7.6 seconds RetCode: 0 Status: OK