Package: SPIA Version: 2.60.0 Command: /home/biocbuild/R/R/bin/R CMD check --install=check:SPIA.install-out.txt --library=/home/biocbuild/R/R/site-library --no-vignettes --timings SPIA_2.60.0.tar.gz StartedAt: 2025-09-30 15:03:14 -0000 (Tue, 30 Sep 2025) EndedAt: 2025-09-30 15:11:51 -0000 (Tue, 30 Sep 2025) EllapsedTime: 516.5 seconds RetCode: 0 Status: OK CheckDir: SPIA.Rcheck Warnings: 0