Package: SPEM Version: 1.48.0 Command: E:\biocbuild\bbs-3.21-bioc\R\bin\R.exe CMD check --no-multiarch --install=check:SPEM.install-out.txt --library=E:\biocbuild\bbs-3.21-bioc\R\library --no-vignettes --timings SPEM_1.48.0.tar.gz StartedAt: 2025-08-15 07:18:34 -0400 (Fri, 15 Aug 2025) EndedAt: 2025-08-15 07:19:18 -0400 (Fri, 15 Aug 2025) EllapsedTime: 44.5 seconds RetCode: 0 Status: OK CheckDir: SPEM.Rcheck Warnings: 0