Package: SPEM Version: 1.48.0 Command: /home/biocbuild/R/R/bin/R CMD check --install=check:SPEM.install-out.txt --library=/home/biocbuild/R/R/site-library --no-vignettes --timings SPEM_1.48.0.tar.gz StartedAt: 2025-10-14 14:44:24 -0000 (Tue, 14 Oct 2025) EndedAt: 2025-10-14 14:45:18 -0000 (Tue, 14 Oct 2025) EllapsedTime: 54.1 seconds RetCode: 0 Status: OK CheckDir: SPEM.Rcheck Warnings: 0