Package: SOMNiBUS Version: 1.16.0 Command: /home/biocbuild/bbs-3.21-bioc/R/bin/R CMD check --install=check:SOMNiBUS.install-out.txt --library=/home/biocbuild/bbs-3.21-bioc/R/site-library --timings SOMNiBUS_1.16.0.tar.gz StartedAt: 2025-10-16 03:48:54 -0400 (Thu, 16 Oct 2025) EndedAt: 2025-10-16 04:07:31 -0400 (Thu, 16 Oct 2025) EllapsedTime: 1117.3 seconds RetCode: 0 Status: OK CheckDir: SOMNiBUS.Rcheck Warnings: 0