Package: SOMNiBUS Version: 1.16.0 Command: /home/biocbuild/bbs-3.21-bioc/R/bin/R CMD build --keep-empty-dirs --no-resave-data SOMNiBUS StartedAt: 2025-10-15 20:00:25 -0400 (Wed, 15 Oct 2025) EndedAt: 2025-10-15 20:04:37 -0400 (Wed, 15 Oct 2025) EllapsedTime: 252.2 seconds RetCode: 0 Status: OK PackageFile: SOMNiBUS_1.16.0.tar.gz PackageFileSize: 1.111 MiB