Package: SOMNiBUS Version: 1.16.0 Command: /home/biocbuild/R/R/bin/R CMD build --keep-empty-dirs --no-resave-data SOMNiBUS StartedAt: 2025-10-14 04:52:05 -0000 (Tue, 14 Oct 2025) EndedAt: 2025-10-14 05:00:32 -0000 (Tue, 14 Oct 2025) EllapsedTime: 506.2 seconds RetCode: 0 Status: OK PackageFile: SOMNiBUS_1.16.0.tar.gz PackageFileSize: 1.095 MiB