Package: SNPRelate Version: 1.42.0 Command: rm -rf SNPRelate.buildbin-libdir && mkdir SNPRelate.buildbin-libdir && E:\biocbuild\bbs-3.21-bioc\R\bin\R.exe CMD INSTALL --build --library=SNPRelate.buildbin-libdir SNPRelate_1.42.0.tar.gz StartedAt: 2025-08-15 10:21:27 -0400 (Fri, 15 Aug 2025) EndedAt: 2025-08-15 10:23:04 -0400 (Fri, 15 Aug 2025) EllapsedTime: 96.6 seconds RetCode: 0 Status: OK PackageFile: SNPRelate_1.42.0.zip PackageFileSize: 2.68 MiB