Package: SNPRelate Version: 1.42.0 Command: /home/biocbuild/bbs-3.21-bioc/R/bin/R CMD INSTALL SNPRelate StartedAt: 2025-10-12 15:07:02 -0400 (Sun, 12 Oct 2025) EndedAt: 2025-10-12 15:07:36 -0400 (Sun, 12 Oct 2025) EllapsedTime: 33.6 seconds RetCode: 0 Status: OK