Package: SNPRelate Version: 1.42.0 Command: /Library/Frameworks/R.framework/Resources/bin/R CMD INSTALL SNPRelate StartedAt: 2025-10-13 15:11:15 -0400 (Mon, 13 Oct 2025) EndedAt: 2025-10-13 15:12:56 -0400 (Mon, 13 Oct 2025) EllapsedTime: 101.0 seconds RetCode: 0 Status: OK