Package: SNPRelate Version: 1.42.0 Command: /home/biocbuild/R/R/bin/R CMD INSTALL SNPRelate StartedAt: 2025-10-13 20:18:49 -0000 (Mon, 13 Oct 2025) EndedAt: 2025-10-13 20:19:47 -0000 (Mon, 13 Oct 2025) EllapsedTime: 57.6 seconds RetCode: 0 Status: OK