Package: SNPRelate Version: 1.42.0 Command: /Library/Frameworks/R.framework/Resources/bin/R CMD build --keep-empty-dirs --no-resave-data SNPRelate StartedAt: 2025-10-14 09:50:01 -0400 (Tue, 14 Oct 2025) EndedAt: 2025-10-14 09:50:53 -0400 (Tue, 14 Oct 2025) EllapsedTime: 51.9 seconds RetCode: 0 Status: OK PackageFile: SNPRelate_1.42.0.tar.gz PackageFileSize: 3.349 MiB