Package: SNPRelate Version: 1.42.0 Command: rm -rf SNPRelate.buildbin-libdir && mkdir SNPRelate.buildbin-libdir && /Users/biocbuild/BBS/utils/build-universal.sh SNPRelate_1.42.0.tar.gz /Library/Frameworks/R.framework/Resources/bin/R SNPRelate.buildbin-libdir StartedAt: 2025-10-15 20:36:32 -0400 (Wed, 15 Oct 2025) EndedAt: 2025-10-15 20:37:04 -0400 (Wed, 15 Oct 2025) EllapsedTime: 31.5 seconds RetCode: 0 Status: OK PackageFile: SNPRelate_1.42.0.tgz PackageFileSize: 3.804 MiB