Package: SMITE Version: 1.36.0 Command: /home/biocbuild/bbs-3.21-bioc/R/bin/R CMD build --keep-empty-dirs --no-resave-data SMITE StartedAt: 2025-10-15 19:59:16 -0400 (Wed, 15 Oct 2025) EndedAt: 2025-10-15 20:00:27 -0400 (Wed, 15 Oct 2025) EllapsedTime: 71.1 seconds RetCode: 0 Status: OK PackageFile: SMITE_1.36.0.tar.gz PackageFileSize: 3.087 MiB