Package: SMITE Version: 1.36.0 Command: /Library/Frameworks/R.framework/Resources/bin/R CMD check --install=check:SMITE.install-out.txt --library=/Library/Frameworks/R.framework/Resources/library --no-vignettes --timings SMITE_1.36.0.tar.gz StartedAt: 2025-10-15 13:06:24 -0400 (Wed, 15 Oct 2025) EndedAt: 2025-10-15 13:12:31 -0400 (Wed, 15 Oct 2025) EllapsedTime: 367.2 seconds RetCode: 0 Status: OK CheckDir: SMITE.Rcheck Warnings: 0