Package: SMITE Version: 1.36.0 Command: rm -rf SMITE.buildbin-libdir && mkdir SMITE.buildbin-libdir && /Users/biocbuild/BBS/utils/build-universal.sh SMITE_1.36.0.tar.gz /Library/Frameworks/R.framework/Resources/bin/R SMITE.buildbin-libdir StartedAt: 2025-10-15 20:35:51 -0400 (Wed, 15 Oct 2025) EndedAt: 2025-10-15 20:36:50 -0400 (Wed, 15 Oct 2025) EllapsedTime: 59.4 seconds RetCode: 0 Status: OK PackageFile: SMITE_1.36.0.tgz PackageFileSize: 3.61 MiB