Package: SLqPCR Version: 1.74.0 Command: E:\biocbuild\bbs-3.21-bioc\R\bin\R.exe CMD INSTALL SLqPCR StartedAt: 2025-08-14 15:21:03 -0400 (Thu, 14 Aug 2025) EndedAt: 2025-08-14 15:21:14 -0400 (Thu, 14 Aug 2025) EllapsedTime: 10.5 seconds RetCode: 0 Status: OK