Package: SLqPCR Version: 1.74.0 Command: /home/biocbuild/bbs-3.21-bioc/R/bin/R CMD build --keep-empty-dirs --no-resave-data SLqPCR StartedAt: 2025-10-15 19:59:01 -0400 (Wed, 15 Oct 2025) EndedAt: 2025-10-15 19:59:06 -0400 (Wed, 15 Oct 2025) EllapsedTime: 5.0 seconds RetCode: 0 Status: OK PackageFile: SLqPCR_1.74.0.tar.gz PackageFileSize: 220.7 KiB