Package: SLqPCR Version: 1.74.0 Command: /home/biocbuild/R/R/bin/R CMD INSTALL SLqPCR StartedAt: 2025-10-13 20:13:43 -0000 (Mon, 13 Oct 2025) EndedAt: 2025-10-13 20:14:02 -0000 (Mon, 13 Oct 2025) EllapsedTime: 19.9 seconds RetCode: 0 Status: OK