Package: SLqPCR Version: 1.74.0 Command: /home/biocbuild/R/R/bin/R CMD build --keep-empty-dirs --no-resave-data SLqPCR StartedAt: 2025-10-14 04:49:31 -0000 (Tue, 14 Oct 2025) EndedAt: 2025-10-14 04:49:37 -0000 (Tue, 14 Oct 2025) EllapsedTime: 6.0 seconds RetCode: 0 Status: OK PackageFile: SLqPCR_1.74.0.tar.gz PackageFileSize: 215.2 KiB