Package: SLqPCR Version: 1.74.0 Command: /Library/Frameworks/R.framework/Resources/bin/R CMD check --install=check:SLqPCR.install-out.txt --library=/Library/Frameworks/R.framework/Resources/library --no-vignettes --timings SLqPCR_1.74.0.tar.gz StartedAt: 2025-10-15 13:04:19 -0400 (Wed, 15 Oct 2025) EndedAt: 2025-10-15 13:04:44 -0400 (Wed, 15 Oct 2025) EllapsedTime: 24.8 seconds RetCode: 0 Status: OK CheckDir: SLqPCR.Rcheck Warnings: 0