Package: SIMAT Version: 1.40.0 Command: /Library/Frameworks/R.framework/Resources/bin/R CMD build --keep-empty-dirs --no-resave-data SIMAT StartedAt: 2025-10-13 22:41:49 -0400 (Mon, 13 Oct 2025) EndedAt: 2025-10-13 22:42:37 -0400 (Mon, 13 Oct 2025) EllapsedTime: 47.6 seconds RetCode: 0 Status: OK PackageFile: SIMAT_1.40.0.tar.gz PackageFileSize: 1.038 MiB