Package: SGSeq Version: 1.42.1 Command: /Library/Frameworks/R.framework/Resources/bin/R CMD check --install=check:SGSeq.install-out.txt --library=/Library/Frameworks/R.framework/Resources/library --no-vignettes --timings SGSeq_1.42.1.tar.gz StartedAt: 2025-10-14 10:22:23 -0400 (Tue, 14 Oct 2025) EndedAt: 2025-10-14 10:42:07 -0400 (Tue, 14 Oct 2025) EllapsedTime: 1184.0 seconds RetCode: 0 Status: OK CheckDir: SGSeq.Rcheck Warnings: 0