Package: SGSeq Version: 1.42.1 Command: /Library/Frameworks/R.framework/Resources/bin/R CMD build --keep-empty-dirs --no-resave-data SGSeq StartedAt: 2025-10-13 22:39:10 -0400 (Mon, 13 Oct 2025) EndedAt: 2025-10-13 22:46:07 -0400 (Mon, 13 Oct 2025) EllapsedTime: 416.8 seconds RetCode: 0 Status: OK PackageFile: SGSeq_1.42.1.tar.gz PackageFileSize: 1.747 MiB