Package: SGCP Version: 1.8.0 Command: /home/biocbuild/bbs-3.21-bioc/R/bin/R CMD INSTALL SGCP StartedAt: 2025-10-15 15:44:43 -0400 (Wed, 15 Oct 2025) EndedAt: 2025-10-15 15:45:38 -0400 (Wed, 15 Oct 2025) EllapsedTime: 54.7 seconds RetCode: 0 Status: OK