Package: SEtools Version: 1.22.0 Command: /Library/Frameworks/R.framework/Resources/bin/R CMD build --keep-empty-dirs --no-resave-data SEtools StartedAt: 2025-04-21 18:26:43 -0400 (Mon, 21 Apr 2025) EndedAt: 2025-04-21 18:27:38 -0400 (Mon, 21 Apr 2025) EllapsedTime: 56.0 seconds RetCode: 0 Status: OK PackageFile: SEtools_1.22.0.tar.gz PackageFileSize: 538 KiB