Package: SEraster Version: 1.0.0 Command: /Library/Frameworks/R.framework/Resources/bin/R CMD build --keep-empty-dirs --no-resave-data SEraster StartedAt: 2025-10-13 22:37:39 -0400 (Mon, 13 Oct 2025) EndedAt: 2025-10-13 22:47:46 -0400 (Mon, 13 Oct 2025) EllapsedTime: 607.3 seconds RetCode: 0 Status: OK PackageFile: SEraster_1.0.0.tar.gz PackageFileSize: 3.164 MiB