Package: SELEX Version: 1.40.0 Command: rm -rf SELEX.buildbin-libdir && mkdir SELEX.buildbin-libdir && E:\biocbuild\bbs-3.21-bioc\R\bin\R.exe CMD INSTALL --build --library=SELEX.buildbin-libdir SELEX_1.40.0.tar.gz StartedAt: 2025-08-15 10:16:36 -0400 (Fri, 15 Aug 2025) EndedAt: 2025-08-15 10:17:01 -0400 (Fri, 15 Aug 2025) EllapsedTime: 24.7 seconds RetCode: 0 Status: OK PackageFile: SELEX_1.40.0.zip PackageFileSize: 2.765 MiB