Package: SELEX Version: 1.40.0 Command: /home/biocbuild/bbs-3.21-bioc/R/bin/R CMD INSTALL SELEX StartedAt: 2025-10-15 15:15:29 -0400 (Wed, 15 Oct 2025) EndedAt: 2025-10-15 15:15:41 -0400 (Wed, 15 Oct 2025) EllapsedTime: 11.2 seconds RetCode: 0 Status: OK