Package: SELEX Version: 1.40.0 Command: /home/biocbuild/R/R/bin/R CMD check --install=check:SELEX.install-out.txt --library=/home/biocbuild/R/R/site-library --no-vignettes --timings SELEX_1.40.0.tar.gz StartedAt: 2025-10-14 14:08:24 -0000 (Tue, 14 Oct 2025) EndedAt: 2025-10-14 14:10:56 -0000 (Tue, 14 Oct 2025) EllapsedTime: 152.2 seconds RetCode: 0 Status: OK CheckDir: SELEX.Rcheck Warnings: 0