Package: SDAMS Version: 1.28.0 Command: /home/biocbuild/bbs-3.21-bioc/R/bin/R CMD INSTALL SDAMS StartedAt: 2025-10-15 15:30:14 -0400 (Wed, 15 Oct 2025) EndedAt: 2025-10-15 15:30:45 -0400 (Wed, 15 Oct 2025) EllapsedTime: 30.7 seconds RetCode: 0 Status: OK