Package: SDAMS Version: 1.28.0 Command: /Library/Frameworks/R.framework/Resources/bin/R CMD INSTALL SDAMS StartedAt: 2025-10-13 15:56:28 -0400 (Mon, 13 Oct 2025) EndedAt: 2025-10-13 15:57:32 -0400 (Mon, 13 Oct 2025) EllapsedTime: 64.1 seconds RetCode: 0 Status: OK