Package: SDAMS Version: 1.28.0 Command: /Library/Frameworks/R.framework/Resources/bin/R CMD check --install=check:SDAMS.install-out.txt --library=/Library/Frameworks/R.framework/Resources/library --no-vignettes --timings SDAMS_1.28.0.tar.gz StartedAt: 2025-10-14 10:11:20 -0400 (Tue, 14 Oct 2025) EndedAt: 2025-10-14 10:19:14 -0400 (Tue, 14 Oct 2025) EllapsedTime: 474.1 seconds RetCode: 0 Status: OK CheckDir: SDAMS.Rcheck Warnings: 0