Package: SDAMS Version: 1.28.0 Command: rm -rf SDAMS.buildbin-libdir && mkdir SDAMS.buildbin-libdir && /Users/biocbuild/BBS/utils/build-universal.sh SDAMS_1.28.0.tar.gz /Library/Frameworks/R.framework/Resources/bin/R SDAMS.buildbin-libdir StartedAt: 2025-10-14 14:45:06 -0400 (Tue, 14 Oct 2025) EndedAt: 2025-10-14 14:46:24 -0400 (Tue, 14 Oct 2025) EllapsedTime: 77.4 seconds RetCode: 0 Status: OK PackageFile: SDAMS_1.28.0.tgz PackageFileSize: 1.104 MiB